BEGIN:VCALENDAR
VERSION:2.0
PRODID:-//Zwiększaj zyski - ECPv6.15.20//NONSGML v1.0//EN
CALSCALE:GREGORIAN
METHOD:PUBLISH
X-WR-CALNAME:Zwiększaj zyski
X-ORIGINAL-URL:https://zwiekszajzyski.pl
X-WR-CALDESC:Wydarzenia dla Zwiększaj zyski
REFRESH-INTERVAL;VALUE=DURATION:PT1H
X-Robots-Tag:noindex
X-PUBLISHED-TTL:PT1H
BEGIN:VTIMEZONE
TZID:Europe/Warsaw
BEGIN:DAYLIGHT
TZOFFSETFROM:+0100
TZOFFSETTO:+0200
TZNAME:CEST
DTSTART:20240331T010000
END:DAYLIGHT
BEGIN:STANDARD
TZOFFSETFROM:+0200
TZOFFSETTO:+0100
TZNAME:CET
DTSTART:20241027T010000
END:STANDARD
BEGIN:DAYLIGHT
TZOFFSETFROM:+0100
TZOFFSETTO:+0200
TZNAME:CEST
DTSTART:20250330T010000
END:DAYLIGHT
BEGIN:STANDARD
TZOFFSETFROM:+0200
TZOFFSETTO:+0100
TZNAME:CET
DTSTART:20251026T010000
END:STANDARD
BEGIN:DAYLIGHT
TZOFFSETFROM:+0100
TZOFFSETTO:+0200
TZNAME:CEST
DTSTART:20260329T010000
END:DAYLIGHT
BEGIN:STANDARD
TZOFFSETFROM:+0200
TZOFFSETTO:+0100
TZNAME:CET
DTSTART:20261025T010000
END:STANDARD
END:VTIMEZONE
BEGIN:VEVENT
DTSTART;TZID=Europe/Warsaw:20250704T080000
DTEND;TZID=Europe/Warsaw:20250704T090000
DTSTAMP:20260420T072415
CREATED:20250515T160219Z
LAST-MODIFIED:20250515T160219Z
UID:27938-1751616000-1751619600@zwiekszajzyski.pl
SUMMARY:Wspólne planowanie
DESCRIPTION:
URL:https://zwiekszajzyski.pl/kalendarz/wspolne-planowanie-7/
CATEGORIES:Wspólne planowanie
END:VEVENT
BEGIN:VEVENT
DTSTART;TZID=Europe/Warsaw:20250627T100000
DTEND;TZID=Europe/Warsaw:20250627T120000
DTSTAMP:20260420T072415
CREATED:20250425T054852Z
LAST-MODIFIED:20250425T054852Z
UID:27084-1751018400-1751025600@zwiekszajzyski.pl
SUMMARY:Mentoring Call w temacie "Sprzedaż" [4/12]
DESCRIPTION:
URL:https://zwiekszajzyski.pl/kalendarz/mentoring-call-w-temacie-sprzedaz-4-12/
CATEGORIES:Mentoring Call
END:VEVENT
BEGIN:VEVENT
DTSTART;TZID=Europe/Warsaw:20250627T080000
DTEND;TZID=Europe/Warsaw:20250627T090000
DTSTAMP:20260420T072415
CREATED:20250515T160147Z
LAST-MODIFIED:20250515T160147Z
UID:27936-1751011200-1751014800@zwiekszajzyski.pl
SUMMARY:Wspólne planowanie
DESCRIPTION:
URL:https://zwiekszajzyski.pl/kalendarz/wspolne-planowanie-6/
CATEGORIES:Wspólne planowanie
END:VEVENT
BEGIN:VEVENT
DTSTART;TZID=Europe/Warsaw:20250626T180000
DTEND;TZID=Europe/Warsaw:20250626T190000
DTSTAMP:20260420T072415
CREATED:20250425T083021Z
LAST-MODIFIED:20250425T083021Z
UID:27190-1750960800-1750964400@zwiekszajzyski.pl
SUMMARY:Dodatkowe konsultacje biznesowe [IZ]
DESCRIPTION:
URL:https://zwiekszajzyski.pl/kalendarz/dodatkowe-konsultacje-biznesowe-iz-2/
CATEGORIES:Zajęcia dodatkowe
END:VEVENT
BEGIN:VEVENT
DTSTART;TZID=Europe/Warsaw:20250626T100000
DTEND;TZID=Europe/Warsaw:20250626T140000
DTSTAMP:20260420T072415
CREATED:20250425T082524Z
LAST-MODIFIED:20250425T082524Z
UID:27177-1750932000-1750946400@zwiekszajzyski.pl
SUMMARY:Warsztaty wdrożeniowe [IZ]
DESCRIPTION:
URL:https://zwiekszajzyski.pl/kalendarz/warsztaty-wdrozeniowe-iz-2/
CATEGORIES:Zajęcia dodatkowe
END:VEVENT
BEGIN:VEVENT
DTSTART;TZID=Europe/Warsaw:20250613T100000
DTEND;TZID=Europe/Warsaw:20250613T120000
DTSTAMP:20260420T072415
CREATED:20250425T054811Z
LAST-MODIFIED:20250425T074445Z
UID:27082-1749808800-1749816000@zwiekszajzyski.pl
SUMMARY:Grupowy audyt kanałów sprzedaży [1/6]
DESCRIPTION:
URL:https://zwiekszajzyski.pl/kalendarz/grupowy-audyt-kanalow-sprzedazy-1-6/
CATEGORIES:Audyt
END:VEVENT
BEGIN:VEVENT
DTSTART;TZID=Europe/Warsaw:20250613T090000
DTEND;TZID=Europe/Warsaw:20250613T100000
DTSTAMP:20260420T072415
CREATED:20250425T054722Z
LAST-MODIFIED:20250425T054722Z
UID:27080-1749805200-1749808800@zwiekszajzyski.pl
SUMMARY:Konsultacje biznesowe [3/12]
DESCRIPTION:
URL:https://zwiekszajzyski.pl/kalendarz/konsultacje-biznesowe-3-12/
CATEGORIES:Dyżur biznesowy
END:VEVENT
BEGIN:VEVENT
DTSTART;TZID=Europe/Warsaw:20250613T080000
DTEND;TZID=Europe/Warsaw:20250613T090000
DTSTAMP:20260420T072415
CREATED:20250515T160106Z
LAST-MODIFIED:20250515T160106Z
UID:27934-1749801600-1749805200@zwiekszajzyski.pl
SUMMARY:Wspólne planowanie
DESCRIPTION:
URL:https://zwiekszajzyski.pl/kalendarz/wspolne-planowanie-5/
CATEGORIES:Wspólne planowanie
END:VEVENT
BEGIN:VEVENT
DTSTART;TZID=Europe/Warsaw:20250606T100000
DTEND;TZID=Europe/Warsaw:20250606T120000
DTSTAMP:20260420T072415
CREATED:20250425T054631Z
LAST-MODIFIED:20250425T054631Z
UID:27078-1749204000-1749211200@zwiekszajzyski.pl
SUMMARY:Mentoring Call w temacie "Oferta" [3/12]
DESCRIPTION:
URL:https://zwiekszajzyski.pl/kalendarz/mentoring-call-w-temacie-oferta-3-12/
CATEGORIES:Mentoring Call
END:VEVENT
BEGIN:VEVENT
DTSTART;TZID=Europe/Warsaw:20250606T080000
DTEND;TZID=Europe/Warsaw:20250606T090000
DTSTAMP:20260420T072415
CREATED:20250515T160035Z
LAST-MODIFIED:20250515T160035Z
UID:27932-1749196800-1749200400@zwiekszajzyski.pl
SUMMARY:Wspólne planowanie
DESCRIPTION:
URL:https://zwiekszajzyski.pl/kalendarz/wspolne-planowanie-4/
CATEGORIES:Wspólne planowanie
END:VEVENT
BEGIN:VEVENT
DTSTART;TZID=Europe/Warsaw:20250530T100000
DTEND;TZID=Europe/Warsaw:20250530T120000
DTSTAMP:20260420T072415
CREATED:20250425T054403Z
LAST-MODIFIED:20250425T054422Z
UID:27072-1748599200-1748606400@zwiekszajzyski.pl
SUMMARY:Case Study Meet [1/6]
DESCRIPTION:
URL:https://zwiekszajzyski.pl/kalendarz/case-study-meet-grupowa-burza-mozgow-1-6/
CATEGORIES:Case Study Meet
END:VEVENT
BEGIN:VEVENT
DTSTART;TZID=Europe/Warsaw:20250530T090000
DTEND;TZID=Europe/Warsaw:20250530T100000
DTSTAMP:20260420T072415
CREATED:20250425T054318Z
LAST-MODIFIED:20250425T054318Z
UID:27070-1748595600-1748599200@zwiekszajzyski.pl
SUMMARY:Konsultacje biznesowe [2/12]
DESCRIPTION:
URL:https://zwiekszajzyski.pl/kalendarz/konsultacje-biznesowe-2-12/
CATEGORIES:Dyżur biznesowy
END:VEVENT
BEGIN:VEVENT
DTSTART;TZID=Europe/Warsaw:20250530T080000
DTEND;TZID=Europe/Warsaw:20250530T090000
DTSTAMP:20260420T072415
CREATED:20250515T155957Z
LAST-MODIFIED:20250515T161909Z
UID:27930-1748592000-1748595600@zwiekszajzyski.pl
SUMMARY:Wspólne planowanie
DESCRIPTION:
URL:https://zwiekszajzyski.pl/kalendarz/wspolne-planowanie-3/
CATEGORIES:Wspólne planowanie
END:VEVENT
BEGIN:VEVENT
DTSTART;TZID=Europe/Warsaw:20250529T180000
DTEND;TZID=Europe/Warsaw:20250529T190000
DTSTAMP:20260420T072415
CREATED:20250425T082951Z
LAST-MODIFIED:20250506T123640Z
UID:27188-1748541600-1748545200@zwiekszajzyski.pl
SUMMARY:Dodatkowe konsultacje biznesowe [IZ]
DESCRIPTION:
URL:https://zwiekszajzyski.pl/kalendarz/dodatkowe-konsultacje-biznesowe-iz/
CATEGORIES:Zajęcia dodatkowe
END:VEVENT
BEGIN:VEVENT
DTSTART;TZID=Europe/Warsaw:20250529T100000
DTEND;TZID=Europe/Warsaw:20250529T140000
DTSTAMP:20260420T072415
CREATED:20250425T082335Z
LAST-MODIFIED:20250506T123059Z
UID:27175-1748512800-1748527200@zwiekszajzyski.pl
SUMMARY:Warsztaty wdrożeniowe [IZ]
DESCRIPTION:
URL:https://zwiekszajzyski.pl/kalendarz/warsztaty-wdrozeniowe-iz/
CATEGORIES:Zajęcia dodatkowe
END:VEVENT
BEGIN:VEVENT
DTSTART;TZID=Europe/Warsaw:20250523T100000
DTEND;TZID=Europe/Warsaw:20250523T120000
DTSTAMP:20260420T072415
CREATED:20250425T054204Z
LAST-MODIFIED:20250425T054204Z
UID:27068-1747994400-1748001600@zwiekszajzyski.pl
SUMMARY:Mentoring Call w temacie "Klienci" [2/12]
DESCRIPTION:
URL:https://zwiekszajzyski.pl/kalendarz/mentoring-call-w-temacie-klienci-2-12/
CATEGORIES:Mentoring Call
END:VEVENT
BEGIN:VEVENT
DTSTART;TZID=Europe/Warsaw:20250523T080000
DTEND;TZID=Europe/Warsaw:20250523T090000
DTSTAMP:20260420T072415
CREATED:20250515T155926Z
LAST-MODIFIED:20250515T155926Z
UID:27928-1747987200-1747990800@zwiekszajzyski.pl
SUMMARY:Wspólne planowanie
DESCRIPTION:
URL:https://zwiekszajzyski.pl/kalendarz/wspolne-planowanie-2/
CATEGORIES:Wspólne planowanie
END:VEVENT
BEGIN:VEVENT
DTSTART;TZID=Europe/Warsaw:20250516T100000
DTEND;TZID=Europe/Warsaw:20250516T130000
DTSTAMP:20260420T072415
CREATED:20250425T054053Z
LAST-MODIFIED:20250425T054122Z
UID:27066-1747389600-1747400400@zwiekszajzyski.pl
SUMMARY:Sesja objaśniająco-rozwojowa do badania MaxieDISC®
DESCRIPTION:
URL:https://zwiekszajzyski.pl/kalendarz/sesja-objasniajaco-rozwojowa-do-badania-maxiedisc/
CATEGORIES:Dodatkowe warsztaty
END:VEVENT
BEGIN:VEVENT
DTSTART;TZID=Europe/Warsaw:20250516T090000
DTEND;TZID=Europe/Warsaw:20250516T100000
DTSTAMP:20260420T072415
CREATED:20250425T053832Z
LAST-MODIFIED:20250425T053832Z
UID:27064-1747386000-1747389600@zwiekszajzyski.pl
SUMMARY:Konsultacje biznesowe [1/12]
DESCRIPTION:
URL:https://zwiekszajzyski.pl/kalendarz/konsultacje-biznesowe-1-12/
CATEGORIES:Dyżur biznesowy
END:VEVENT
BEGIN:VEVENT
DTSTART;TZID=Europe/Warsaw:20250516T080000
DTEND;TZID=Europe/Warsaw:20250516T090000
DTSTAMP:20260420T072415
CREATED:20250515T155839Z
LAST-MODIFIED:20250515T155839Z
UID:27926-1747382400-1747386000@zwiekszajzyski.pl
SUMMARY:Wspólne planowanie
DESCRIPTION:
URL:https://zwiekszajzyski.pl/kalendarz/wspolne-planowanie/
CATEGORIES:Wspólne planowanie
END:VEVENT
BEGIN:VEVENT
DTSTART;TZID=Europe/Warsaw:20250509T120000
DTEND;TZID=Europe/Warsaw:20250509T140000
DTSTAMP:20260420T072415
CREATED:20250425T053734Z
LAST-MODIFIED:20250425T053734Z
UID:27062-1746792000-1746799200@zwiekszajzyski.pl
SUMMARY:Zajęcia dodatkowe: zaplanuj wraz ze mną realizację Twojego celu (w Notion)
DESCRIPTION:
URL:https://zwiekszajzyski.pl/kalendarz/zajecia-dodatkowe-zaplanuj-wraz-ze-mna-realizacje-twojego-celu-w-notion/
CATEGORIES:Zajęcia dodatkowe
END:VEVENT
BEGIN:VEVENT
DTSTART;TZID=Europe/Warsaw:20250509T100000
DTEND;TZID=Europe/Warsaw:20250509T120000
DTSTAMP:20260420T072415
CREATED:20250425T053553Z
LAST-MODIFIED:20250425T053553Z
UID:27060-1746784800-1746792000@zwiekszajzyski.pl
SUMMARY:Mentoring Call [1/12]
DESCRIPTION:
URL:https://zwiekszajzyski.pl/kalendarz/mentoring-call-1-12/
CATEGORIES:Mentoring Call
END:VEVENT
BEGIN:VEVENT
DTSTART;TZID=Europe/Warsaw:20250425T100000
DTEND;TZID=Europe/Warsaw:20250425T140000
DTSTAMP:20260420T072415
CREATED:20250425T053408Z
LAST-MODIFIED:20250425T074343Z
UID:27058-1745575200-1745589600@zwiekszajzyski.pl
SUMMARY:Inauguracja roku szkolnego + Mental w biznesie [1/3]
DESCRIPTION:
URL:https://zwiekszajzyski.pl/kalendarz/inauguracja-roku-szkolnego-mental-w-biznesie-1-3/
CATEGORIES:Szkoła Prezesek,Szkolenie offline
END:VEVENT
END:VCALENDAR