BEGIN:VCALENDAR
VERSION:2.0
PRODID:-//Zwiększaj zyski - ECPv6.15.20//NONSGML v1.0//EN
CALSCALE:GREGORIAN
METHOD:PUBLISH
X-ORIGINAL-URL:https://zwiekszajzyski.pl
X-WR-CALDESC:Wydarzenia dla Zwiększaj zyski
REFRESH-INTERVAL;VALUE=DURATION:PT1H
X-Robots-Tag:noindex
X-PUBLISHED-TTL:PT1H
BEGIN:VTIMEZONE
TZID:Europe/Warsaw
BEGIN:DAYLIGHT
TZOFFSETFROM:+0100
TZOFFSETTO:+0200
TZNAME:CEST
DTSTART:20240331T010000
END:DAYLIGHT
BEGIN:STANDARD
TZOFFSETFROM:+0200
TZOFFSETTO:+0100
TZNAME:CET
DTSTART:20241027T010000
END:STANDARD
BEGIN:DAYLIGHT
TZOFFSETFROM:+0100
TZOFFSETTO:+0200
TZNAME:CEST
DTSTART:20250330T010000
END:DAYLIGHT
BEGIN:STANDARD
TZOFFSETFROM:+0200
TZOFFSETTO:+0100
TZNAME:CET
DTSTART:20251026T010000
END:STANDARD
BEGIN:DAYLIGHT
TZOFFSETFROM:+0100
TZOFFSETTO:+0200
TZNAME:CEST
DTSTART:20260329T010000
END:DAYLIGHT
BEGIN:STANDARD
TZOFFSETFROM:+0200
TZOFFSETTO:+0100
TZNAME:CET
DTSTART:20261025T010000
END:STANDARD
END:VTIMEZONE
BEGIN:VEVENT
DTSTART;TZID=Europe/Warsaw:20250822T170000
DTEND;TZID=Europe/Warsaw:20250822T180000
DTSTAMP:20260420T041439
CREATED:20250425T083138Z
LAST-MODIFIED:20250717T111304Z
UID:27194-1755882000-1755885600@zwiekszajzyski.pl
SUMMARY:Dodatkowe konsultacje biznesowe [IZ]
DESCRIPTION:
URL:https://zwiekszajzyski.pl/kalendarz/dodatkowe-konsultacje-biznesowe-iz-4/
CATEGORIES:Zajęcia dodatkowe
END:VEVENT
BEGIN:VEVENT
DTSTART;TZID=Europe/Warsaw:20250822T100000
DTEND;TZID=Europe/Warsaw:20250822T120000
DTSTAMP:20260420T041439
CREATED:20250425T074936Z
LAST-MODIFIED:20250425T074936Z
UID:27115-1755856800-1755864000@zwiekszajzyski.pl
SUMMARY:Case Study Meet [3/6]
DESCRIPTION:
URL:https://zwiekszajzyski.pl/kalendarz/case-study-meet-3-6/
CATEGORIES:Case Study Meet
END:VEVENT
BEGIN:VEVENT
DTSTART;TZID=Europe/Warsaw:20250822T090000
DTEND;TZID=Europe/Warsaw:20250822T100000
DTSTAMP:20260420T041439
CREATED:20250425T074904Z
LAST-MODIFIED:20250425T074904Z
UID:27113-1755853200-1755856800@zwiekszajzyski.pl
SUMMARY:Konsultacje biznesowe [7/12]
DESCRIPTION:
URL:https://zwiekszajzyski.pl/kalendarz/konsultacje-biznesowe-7-12/
CATEGORIES:Dyżur biznesowy
END:VEVENT
BEGIN:VEVENT
DTSTART;TZID=Europe/Warsaw:20250822T080000
DTEND;TZID=Europe/Warsaw:20250822T090000
DTSTAMP:20260420T041439
CREATED:20250515T160741Z
LAST-MODIFIED:20250515T160741Z
UID:27950-1755849600-1755853200@zwiekszajzyski.pl
SUMMARY:Wspólne planowanie
DESCRIPTION:
URL:https://zwiekszajzyski.pl/kalendarz/wspolne-planowanie-13/
CATEGORIES:Wspólne planowanie
END:VEVENT
BEGIN:VEVENT
DTSTART;TZID=Europe/Warsaw:20250821T100000
DTEND;TZID=Europe/Warsaw:20250821T140000
DTSTAMP:20260420T041439
CREATED:20250425T082635Z
LAST-MODIFIED:20250425T082635Z
UID:27181-1755770400-1755784800@zwiekszajzyski.pl
SUMMARY:Warsztaty wdrożeniowe [IZ]
DESCRIPTION:
URL:https://zwiekszajzyski.pl/kalendarz/warsztaty-wdrozeniowe-iz-4/
CATEGORIES:Zajęcia dodatkowe
END:VEVENT
BEGIN:VEVENT
DTSTART;TZID=Europe/Warsaw:20250808T090000
DTEND;TZID=Europe/Warsaw:20250808T120000
DTSTAMP:20260420T041439
CREATED:20250425T074254Z
LAST-MODIFIED:20250425T074824Z
UID:27109-1754643600-1754654400@zwiekszajzyski.pl
SUMMARY:Mentoring Call w temacie "Kluczowe działania" [7/12]
DESCRIPTION:
URL:https://zwiekszajzyski.pl/kalendarz/mentoring-call-w-temacie-kluczowe-dzialania-7-12/
CATEGORIES:Mentoring Call
END:VEVENT
BEGIN:VEVENT
DTSTART;TZID=Europe/Warsaw:20250808T090000
DTEND;TZID=Europe/Warsaw:20250808T100000
DTSTAMP:20260420T041439
CREATED:20250425T074208Z
LAST-MODIFIED:20250425T074748Z
UID:27107-1754643600-1754647200@zwiekszajzyski.pl
SUMMARY:Omówienie strategii sprzedaży "Sprzedaż przez telefon"
DESCRIPTION:
URL:https://zwiekszajzyski.pl/kalendarz/omowienie-strategii-sprzedazy-sprzedaz-przez-telefon/
CATEGORIES:Strategia
END:VEVENT
BEGIN:VEVENT
DTSTART;TZID=Europe/Warsaw:20250808T080000
DTEND;TZID=Europe/Warsaw:20250808T090000
DTSTAMP:20260420T041439
CREATED:20250515T160703Z
LAST-MODIFIED:20250515T160703Z
UID:27948-1754640000-1754643600@zwiekszajzyski.pl
SUMMARY:Wspólne planowanie
DESCRIPTION:
URL:https://zwiekszajzyski.pl/kalendarz/wspolne-planowanie-12/
CATEGORIES:Wspólne planowanie
END:VEVENT
BEGIN:VEVENT
DTSTART;TZID=Europe/Warsaw:20250801T100000
DTEND;TZID=Europe/Warsaw:20250801T130000
DTSTAMP:20260420T041439
CREATED:20250425T074014Z
LAST-MODIFIED:20250425T074026Z
UID:27105-1754042400-1754053200@zwiekszajzyski.pl
SUMMARY:Mental w biznesie [2/3]
DESCRIPTION:
URL:https://zwiekszajzyski.pl/kalendarz/mental-w-biznesie-2-3/
CATEGORIES:Szkolenie offline
END:VEVENT
BEGIN:VEVENT
DTSTART;TZID=Europe/Warsaw:20250801T090000
DTEND;TZID=Europe/Warsaw:20250801T100000
DTSTAMP:20260420T041439
CREATED:20250425T073934Z
LAST-MODIFIED:20250425T073934Z
UID:27103-1754038800-1754042400@zwiekszajzyski.pl
SUMMARY:Konsultacje biznesowe [6/12]
DESCRIPTION:
URL:https://zwiekszajzyski.pl/kalendarz/konsultacje-biznesowe-6-12/
CATEGORIES:Dyżur biznesowy
END:VEVENT
BEGIN:VEVENT
DTSTART;TZID=Europe/Warsaw:20250801T080000
DTEND;TZID=Europe/Warsaw:20250801T090000
DTSTAMP:20260420T041439
CREATED:20250515T160628Z
LAST-MODIFIED:20250515T160628Z
UID:27946-1754035200-1754038800@zwiekszajzyski.pl
SUMMARY:Wspólne planowanie
DESCRIPTION:
URL:https://zwiekszajzyski.pl/kalendarz/wspolne-planowanie-11/
CATEGORIES:Wspólne planowanie
END:VEVENT
BEGIN:VEVENT
DTSTART;TZID=Europe/Warsaw:20250725T100000
DTEND;TZID=Europe/Warsaw:20250725T120000
DTSTAMP:20260420T041439
CREATED:20250425T073748Z
LAST-MODIFIED:20250425T073748Z
UID:27101-1753437600-1753444800@zwiekszajzyski.pl
SUMMARY:Mentoring Call w temacie "Przychody" [6/12]
DESCRIPTION:
URL:https://zwiekszajzyski.pl/kalendarz/mentoring-call-w-temacie-przychody-6-12/
CATEGORIES:Mentoring Call
END:VEVENT
BEGIN:VEVENT
DTSTART;TZID=Europe/Warsaw:20250725T090000
DTEND;TZID=Europe/Warsaw:20250725T100000
DTSTAMP:20260420T041439
CREATED:20250425T073715Z
LAST-MODIFIED:20250425T083910Z
UID:27099-1753434000-1753437600@zwiekszajzyski.pl
SUMMARY:Omówienie strategii sprzedaży "Sprzedaż followup"
DESCRIPTION:
URL:https://zwiekszajzyski.pl/kalendarz/omowienie-strategii-sprzedazy-sprzedaz-followup/
CATEGORIES:Strategia
END:VEVENT
BEGIN:VEVENT
DTSTART;TZID=Europe/Warsaw:20250725T080000
DTEND;TZID=Europe/Warsaw:20250725T090000
DTSTAMP:20260420T041439
CREATED:20250515T160557Z
LAST-MODIFIED:20250515T160557Z
UID:27944-1753430400-1753434000@zwiekszajzyski.pl
SUMMARY:Wspólne planowanie
DESCRIPTION:
URL:https://zwiekszajzyski.pl/kalendarz/wspolne-planowanie-10/
CATEGORIES:Wspólne planowanie
END:VEVENT
BEGIN:VEVENT
DTSTART;TZID=Europe/Warsaw:20250718T170000
DTEND;TZID=Europe/Warsaw:20250718T180000
DTSTAMP:20260420T041439
CREATED:20250425T083104Z
LAST-MODIFIED:20250717T111204Z
UID:27192-1752858000-1752861600@zwiekszajzyski.pl
SUMMARY:Dodatkowe konsultacje biznesowe [IZ]
DESCRIPTION:
URL:https://zwiekszajzyski.pl/kalendarz/dodatkowe-konsultacje-biznesowe-iz-3/
CATEGORIES:Zajęcia dodatkowe
END:VEVENT
BEGIN:VEVENT
DTSTART;TZID=Europe/Warsaw:20250718T100000
DTEND;TZID=Europe/Warsaw:20250718T120000
DTSTAMP:20260420T041439
CREATED:20250425T073538Z
LAST-MODIFIED:20250425T074619Z
UID:27096-1752832800-1752840000@zwiekszajzyski.pl
SUMMARY:Grupowy audyt kanałów sprzedaży [2/6]
DESCRIPTION:
URL:https://zwiekszajzyski.pl/kalendarz/grupowy-audyt-kanalow-sprzedazy-2-6/
CATEGORIES:Audyt
END:VEVENT
BEGIN:VEVENT
DTSTART;TZID=Europe/Warsaw:20250718T090000
DTEND;TZID=Europe/Warsaw:20250718T100000
DTSTAMP:20260420T041439
CREATED:20250425T073452Z
LAST-MODIFIED:20250425T073452Z
UID:27094-1752829200-1752832800@zwiekszajzyski.pl
SUMMARY:Konsultacje biznesowe [5/12]
DESCRIPTION:
URL:https://zwiekszajzyski.pl/kalendarz/konsultacje-biznesowe-5-12/
CATEGORIES:Dyżur biznesowy
END:VEVENT
BEGIN:VEVENT
DTSTART;TZID=Europe/Warsaw:20250718T080000
DTEND;TZID=Europe/Warsaw:20250718T090000
DTSTAMP:20260420T041439
CREATED:20250515T160519Z
LAST-MODIFIED:20250515T160519Z
UID:27942-1752825600-1752829200@zwiekszajzyski.pl
SUMMARY:Wspólne planowanie
DESCRIPTION:
URL:https://zwiekszajzyski.pl/kalendarz/wspolne-planowanie-9/
CATEGORIES:Wspólne planowanie
END:VEVENT
BEGIN:VEVENT
DTSTART;TZID=Europe/Warsaw:20250717T100000
DTEND;TZID=Europe/Warsaw:20250717T140000
DTSTAMP:20260420T041439
CREATED:20250425T082603Z
LAST-MODIFIED:20250425T082603Z
UID:27179-1752746400-1752760800@zwiekszajzyski.pl
SUMMARY:Warsztaty wdrożeniowe [IZ]
DESCRIPTION:
URL:https://zwiekszajzyski.pl/kalendarz/warsztaty-wdrozeniowe-iz-3/
CATEGORIES:Zajęcia dodatkowe
END:VEVENT
BEGIN:VEVENT
DTSTART;TZID=Europe/Warsaw:20250711T100000
DTEND;TZID=Europe/Warsaw:20250711T120000
DTSTAMP:20260420T041439
CREATED:20250425T073414Z
LAST-MODIFIED:20250425T073414Z
UID:27092-1752228000-1752235200@zwiekszajzyski.pl
SUMMARY:Mentoring Call w temacie "Relacje" [5/12]
DESCRIPTION:
URL:https://zwiekszajzyski.pl/kalendarz/mentoring-call-w-temacie-relacje-5-12/
CATEGORIES:Mentoring Call
END:VEVENT
BEGIN:VEVENT
DTSTART;TZID=Europe/Warsaw:20250711T090000
DTEND;TZID=Europe/Warsaw:20250711T100000
DTSTAMP:20260420T041439
CREATED:20250425T073328Z
LAST-MODIFIED:20250425T074523Z
UID:27090-1752224400-1752228000@zwiekszajzyski.pl
SUMMARY:Omówienie strategii sprzedaży "Sprzedaż przez polecenia"
DESCRIPTION:
URL:https://zwiekszajzyski.pl/kalendarz/omowienie-strategii-sprzedazy-sprzedaz-przez-polecenia/
CATEGORIES:Strategia
END:VEVENT
BEGIN:VEVENT
DTSTART;TZID=Europe/Warsaw:20250711T080000
DTEND;TZID=Europe/Warsaw:20250711T090000
DTSTAMP:20260420T041439
CREATED:20250515T160446Z
LAST-MODIFIED:20250515T160446Z
UID:27940-1752220800-1752224400@zwiekszajzyski.pl
SUMMARY:Wspólne planowanie
DESCRIPTION:
URL:https://zwiekszajzyski.pl/kalendarz/wspolne-planowanie-8/
CATEGORIES:Wspólne planowanie
END:VEVENT
BEGIN:VEVENT
DTSTART;TZID=Europe/Warsaw:20250704T100000
DTEND;TZID=Europe/Warsaw:20250704T120000
DTSTAMP:20260420T041439
CREATED:20250425T073112Z
LAST-MODIFIED:20250425T073112Z
UID:27088-1751623200-1751630400@zwiekszajzyski.pl
SUMMARY:Case Study Meet [2/6]
DESCRIPTION:
URL:https://zwiekszajzyski.pl/kalendarz/case-study-meet-2-6/
CATEGORIES:Case Study Meet
END:VEVENT
BEGIN:VEVENT
DTSTART;TZID=Europe/Warsaw:20250704T090000
DTEND;TZID=Europe/Warsaw:20250704T100000
DTSTAMP:20260420T041439
CREATED:20250425T072955Z
LAST-MODIFIED:20250425T072955Z
UID:27086-1751619600-1751623200@zwiekszajzyski.pl
SUMMARY:Konsultacje biznesowe [4/12]
DESCRIPTION:
URL:https://zwiekszajzyski.pl/kalendarz/konsultacje-biznesowe-4-12/
CATEGORIES:Dyżur biznesowy
END:VEVENT
BEGIN:VEVENT
DTSTART;TZID=Europe/Warsaw:20250704T080000
DTEND;TZID=Europe/Warsaw:20250704T090000
DTSTAMP:20260420T041439
CREATED:20250515T160219Z
LAST-MODIFIED:20250515T160219Z
UID:27938-1751616000-1751619600@zwiekszajzyski.pl
SUMMARY:Wspólne planowanie
DESCRIPTION:
URL:https://zwiekszajzyski.pl/kalendarz/wspolne-planowanie-7/
CATEGORIES:Wspólne planowanie
END:VEVENT
BEGIN:VEVENT
DTSTART;TZID=Europe/Warsaw:20250627T100000
DTEND;TZID=Europe/Warsaw:20250627T120000
DTSTAMP:20260420T041439
CREATED:20250425T054852Z
LAST-MODIFIED:20250425T054852Z
UID:27084-1751018400-1751025600@zwiekszajzyski.pl
SUMMARY:Mentoring Call w temacie "Sprzedaż" [4/12]
DESCRIPTION:
URL:https://zwiekszajzyski.pl/kalendarz/mentoring-call-w-temacie-sprzedaz-4-12/
CATEGORIES:Mentoring Call
END:VEVENT
BEGIN:VEVENT
DTSTART;TZID=Europe/Warsaw:20250627T080000
DTEND;TZID=Europe/Warsaw:20250627T090000
DTSTAMP:20260420T041439
CREATED:20250515T160147Z
LAST-MODIFIED:20250515T160147Z
UID:27936-1751011200-1751014800@zwiekszajzyski.pl
SUMMARY:Wspólne planowanie
DESCRIPTION:
URL:https://zwiekszajzyski.pl/kalendarz/wspolne-planowanie-6/
CATEGORIES:Wspólne planowanie
END:VEVENT
BEGIN:VEVENT
DTSTART;TZID=Europe/Warsaw:20250626T180000
DTEND;TZID=Europe/Warsaw:20250626T190000
DTSTAMP:20260420T041439
CREATED:20250425T083021Z
LAST-MODIFIED:20250425T083021Z
UID:27190-1750960800-1750964400@zwiekszajzyski.pl
SUMMARY:Dodatkowe konsultacje biznesowe [IZ]
DESCRIPTION:
URL:https://zwiekszajzyski.pl/kalendarz/dodatkowe-konsultacje-biznesowe-iz-2/
CATEGORIES:Zajęcia dodatkowe
END:VEVENT
BEGIN:VEVENT
DTSTART;TZID=Europe/Warsaw:20250626T100000
DTEND;TZID=Europe/Warsaw:20250626T140000
DTSTAMP:20260420T041439
CREATED:20250425T082524Z
LAST-MODIFIED:20250425T082524Z
UID:27177-1750932000-1750946400@zwiekszajzyski.pl
SUMMARY:Warsztaty wdrożeniowe [IZ]
DESCRIPTION:
URL:https://zwiekszajzyski.pl/kalendarz/warsztaty-wdrozeniowe-iz-2/
CATEGORIES:Zajęcia dodatkowe
END:VEVENT
BEGIN:VEVENT
DTSTART;TZID=Europe/Warsaw:20250613T100000
DTEND;TZID=Europe/Warsaw:20250613T120000
DTSTAMP:20260420T041439
CREATED:20250425T054811Z
LAST-MODIFIED:20250425T074445Z
UID:27082-1749808800-1749816000@zwiekszajzyski.pl
SUMMARY:Grupowy audyt kanałów sprzedaży [1/6]
DESCRIPTION:
URL:https://zwiekszajzyski.pl/kalendarz/grupowy-audyt-kanalow-sprzedazy-1-6/
CATEGORIES:Audyt
END:VEVENT
END:VCALENDAR